BEGIN:VCALENDAR
VERSION:2.0
PRODID:-//wp-events-plugin.com//7.2.3.1//EN
TZID:Europe/London
X-WR-TIMEZONE:Europe/London
BEGIN:VEVENT
UID:71@eph.edingtonwiltshire.org.uk
DTSTART;TZID=Europe/London:20241211T123000
DTEND;TZID=Europe/London:20241211T140000
DTSTAMP:20241118T144645Z
URL:https://eph.edingtonwiltshire.org.uk/events/village-lunch/
SUMMARY:Village Lunch
DESCRIPTION:Book early with Pauline to avoid disappointment.
CATEGORIES:Occasional Event
END:VEVENT
BEGIN:VTIMEZONE
TZID:Europe/London
X-LIC-LOCATION:Europe/London
BEGIN:STANDARD
DTSTART:20241027T010000
TZOFFSETFROM:+0100
TZOFFSETTO:+0000
TZNAME:GMT
END:STANDARD
END:VTIMEZONE
END:VCALENDAR