BEGIN:VCALENDAR
VERSION:2.0
PRODID:-//wp-events-plugin.com//7.2.3.1//EN
TZID:Europe/London
X-WR-TIMEZONE:Europe/London
BEGIN:VEVENT
UID:382@eph.edingtonwiltshire.org.uk
DTSTART;TZID=Europe/London:20250611T130000
DTEND;TZID=Europe/London:20250611T170000
DTSTAMP:20250508T173411Z
URL:https://eph.edingtonwiltshire.org.uk/events/village-lunch-2025-06-11/
SUMMARY:Village Lunch
DESCRIPTION:This month we will  be holding a Village tea\n\n&nbsp\;
ATTACH;FMTTYPE=image/jpeg:https://eph.edingtonwiltshire.org.uk/wp-content/
 uploads/2025/01/Lunch-icon.jpg
CATEGORIES:Regular Event
END:VEVENT
BEGIN:VTIMEZONE
TZID:Europe/London
X-LIC-LOCATION:Europe/London
BEGIN:DAYLIGHT
DTSTART:20250330T020000
TZOFFSETFROM:+0000
TZOFFSETTO:+0100
TZNAME:BST
END:DAYLIGHT
END:VTIMEZONE
END:VCALENDAR