BEGIN:VCALENDAR
VERSION:2.0
PRODID:-//wp-events-plugin.com//7.2.3.1//EN
TZID:Europe/London
X-WR-TIMEZONE:Europe/London
BEGIN:VEVENT
UID:377@eph.edingtonwiltshire.org.uk
DTSTART;TZID=Europe/London:20250108T110000
DTEND;TZID=Europe/London:20250108T140000
DTSTAMP:20250321T170842Z
URL:https://eph.edingtonwiltshire.org.uk/events/village-lunch-2025-01-08/
SUMMARY:Village Lunch
DESCRIPTION:Lunch at 12.30pm
ATTACH;FMTTYPE=image/jpeg:https://eph.edingtonwiltshire.org.uk/wp-content/
 uploads/2025/01/Lunch-icon.jpg
CATEGORIES:Regular Event
END:VEVENT
BEGIN:VTIMEZONE
TZID:Europe/London
X-LIC-LOCATION:Europe/London
BEGIN:STANDARD
DTSTART:20241027T010000
TZOFFSETFROM:+0100
TZOFFSETTO:+0000
TZNAME:GMT
END:STANDARD
END:VTIMEZONE
END:VCALENDAR