BEGIN:VCALENDAR
VERSION:2.0
PRODID:-//wp-events-plugin.com//7.2.3.1//EN
TZID:Europe/London
X-WR-TIMEZONE:Europe/London
BEGIN:VEVENT
UID:431@eph.edingtonwiltshire.org.uk
DTSTART;TZID=Europe/London:20250830T234500
DTEND;TZID=Europe/London:20250831T150000
DTSTAMP:20250818T113953Z
URL:https://eph.edingtonwiltshire.org.uk/events/unavailable-9/
SUMMARY:Unavailable
DESCRIPTION:Event booked 11am to 3pm on Sunday 31st August
CATEGORIES:Unavailable
END:VEVENT
BEGIN:VTIMEZONE
TZID:Europe/London
X-LIC-LOCATION:Europe/London
BEGIN:DAYLIGHT
DTSTART:20250330T020000
TZOFFSETFROM:+0000
TZOFFSETTO:+0100
TZNAME:BST
END:DAYLIGHT
END:VTIMEZONE
END:VCALENDAR