BEGIN:VCALENDAR
VERSION:2.0
PRODID:-//wp-events-plugin.com//7.2.3.1//EN
TZID:Europe/London
X-WR-TIMEZONE:Europe/London
BEGIN:VEVENT
UID:578@eph.edingtonwiltshire.org.uk
DTSTART;TZID=Europe/London:20251020T070000
DTEND;TZID=Europe/London:20251020T100000
DTSTAMP:20250901T114726Z
URL:https://eph.edingtonwiltshire.org.uk/events/unavailable-3-2025-09-01-2
 025-09-08-2025-09-15-2025-09-22-2025-09-29-2025-10-06-2025-10-13-2025-10-2
 0/
SUMMARY:Unavailable
DESCRIPTION:
CATEGORIES:Unavailable
END:VEVENT
BEGIN:VTIMEZONE
TZID:Europe/London
X-LIC-LOCATION:Europe/London
BEGIN:DAYLIGHT
DTSTART:20250330T020000
TZOFFSETFROM:+0000
TZOFFSETTO:+0100
TZNAME:BST
END:DAYLIGHT
END:VTIMEZONE
END:VCALENDAR