BEGIN:VCALENDAR
VERSION:2.0
PRODID:-//wp-events-plugin.com//7.2.3.1//EN
TZID:Europe/London
X-WR-TIMEZONE:Europe/London
BEGIN:VEVENT
UID:390@eph.edingtonwiltshire.org.uk
DTSTART;TZID=Europe/London:20250304T190000
DTEND;TZID=Europe/London:20250304T220000
DTSTAMP:20250213T120907Z
URL:https://eph.edingtonwiltshire.org.uk/events/private-event-3/
SUMMARY:Private Event
DESCRIPTION:
CATEGORIES:Private Event
END:VEVENT
BEGIN:VTIMEZONE
TZID:Europe/London
X-LIC-LOCATION:Europe/London
BEGIN:STANDARD
DTSTART:20241027T010000
TZOFFSETFROM:+0100
TZOFFSETTO:+0000
TZNAME:GMT
END:STANDARD
END:VTIMEZONE
END:VCALENDAR