BEGIN:VCALENDAR
VERSION:2.0
PRODID:-//wp-events-plugin.com//7.2.3.1//EN
TZID:Europe/London
X-WR-TIMEZONE:Europe/London
BEGIN:VEVENT
UID:602@eph.edingtonwiltshire.org.uk
DTSTART;TZID=Europe/London:20251122T100000
DTEND;TZID=Europe/London:20251122T160000
DTSTAMP:20251020T142200Z
URL:https://eph.edingtonwiltshire.org.uk/events/private-event-20/
SUMMARY:Private Event
DESCRIPTION:Private Event
CATEGORIES:Private Event
END:VEVENT
BEGIN:VTIMEZONE
TZID:Europe/London
X-LIC-LOCATION:Europe/London
BEGIN:STANDARD
DTSTART:20251026T010000
TZOFFSETFROM:+0100
TZOFFSETTO:+0000
TZNAME:GMT
END:STANDARD
END:VTIMEZONE
END:VCALENDAR