BEGIN:VCALENDAR
VERSION:2.0
PRODID:-//wp-events-plugin.com//7.2.3.1//EN
TZID:Europe/London
X-WR-TIMEZONE:Europe/London
BEGIN:VEVENT
UID:406@eph.edingtonwiltshire.org.uk
DTSTART;TZID=Europe/London:20250719T170000
DTEND;TZID=Europe/London:20250719T220000
DTSTAMP:20250324T134312Z
URL:https://eph.edingtonwiltshire.org.uk/events/private-event-10/
SUMMARY:Private event
DESCRIPTION:Private event
CATEGORIES:Private Event
END:VEVENT
BEGIN:VTIMEZONE
TZID:Europe/London
X-LIC-LOCATION:Europe/London
BEGIN:DAYLIGHT
DTSTART:20250330T020000
TZOFFSETFROM:+0000
TZOFFSETTO:+0100
TZNAME:BST
END:DAYLIGHT
END:VTIMEZONE
END:VCALENDAR