BEGIN:VCALENDAR
VERSION:2.0
PRODID:-//wp-events-plugin.com//7.2.3.1//EN
TZID:Europe/London
X-WR-TIMEZONE:Europe/London
BEGIN:VEVENT
UID:400@eph.edingtonwiltshire.org.uk
DTSTART;TZID=Europe/London:20250419T120000
DTEND;TZID=Europe/London:20250419T160000
DTSTAMP:20250313T155140Z
URL:https://eph.edingtonwiltshire.org.uk/events/private-booking/
SUMMARY:Private Booking
DESCRIPTION:
CATEGORIES:Private Event
END:VEVENT
BEGIN:VTIMEZONE
TZID:Europe/London
X-LIC-LOCATION:Europe/London
BEGIN:DAYLIGHT
DTSTART:20250330T020000
TZOFFSETFROM:+0000
TZOFFSETTO:+0100
TZNAME:BST
END:DAYLIGHT
END:VTIMEZONE
END:VCALENDAR