BEGIN:VCALENDAR
VERSION:2.0
PRODID:-//wp-events-plugin.com//7.2.3.1//EN
TZID:Europe/London
X-WR-TIMEZONE:Europe/London
BEGIN:VEVENT
UID:427@eph.edingtonwiltshire.org.uk
DTSTART;TZID=Europe/London:20250927T090000
DTEND;TZID=Europe/London:20250927T130000
DTSTAMP:20250818T110602Z
URL:https://eph.edingtonwiltshire.org.uk/events/macmillan-coffee-morning/
SUMMARY:MacMillan Coffee Morning
DESCRIPTION:
CATEGORIES:Occasional Event
END:VEVENT
BEGIN:VTIMEZONE
TZID:Europe/London
X-LIC-LOCATION:Europe/London
BEGIN:DAYLIGHT
DTSTART:20250330T020000
TZOFFSETFROM:+0000
TZOFFSETTO:+0100
TZNAME:BST
END:DAYLIGHT
END:VTIMEZONE
END:VCALENDAR