BEGIN:VCALENDAR
VERSION:2.0
PRODID:-//wp-events-plugin.com//7.2.3.1//EN
TZID:Europe/London
X-WR-TIMEZONE:Europe/London
BEGIN:VEVENT
UID:69@eph.edingtonwiltshire.org.uk
DTSTART;TZID=Europe/London:20241218T143000
DTEND;TZID=Europe/London:20241218T163000
DTSTAMP:20241118T144357Z
URL:https://eph.edingtonwiltshire.org.uk/events/informal-carol-service/
SUMMARY:Informal Carol Service
DESCRIPTION:
CATEGORIES:Occasional Event
END:VEVENT
BEGIN:VTIMEZONE
TZID:Europe/London
X-LIC-LOCATION:Europe/London
BEGIN:STANDARD
DTSTART:20241027T010000
TZOFFSETFROM:+0100
TZOFFSETTO:+0000
TZNAME:GMT
END:STANDARD
END:VTIMEZONE
END:VCALENDAR