BEGIN:VCALENDAR
VERSION:2.0
PRODID:-//wp-events-plugin.com//7.2.3.1//EN
TZID:Europe/London
X-WR-TIMEZONE:Europe/London
BEGIN:VEVENT
UID:397@eph.edingtonwiltshire.org.uk
DTSTART;TZID=Europe/London:20250906T080000
DTEND;TZID=Europe/London:20250906T170000
DTSTAMP:20250213T122115Z
URL:https://eph.edingtonwiltshire.org.uk/events/gardening-club-produce-sho
 w/
SUMMARY:Gardening Club Produce Show
DESCRIPTION:
CATEGORIES:Occasional Event
END:VEVENT
BEGIN:VTIMEZONE
TZID:Europe/London
X-LIC-LOCATION:Europe/London
BEGIN:DAYLIGHT
DTSTART:20250330T020000
TZOFFSETFROM:+0000
TZOFFSETTO:+0100
TZNAME:BST
END:DAYLIGHT
END:VTIMEZONE
END:VCALENDAR