BEGIN:VCALENDAR
VERSION:2.0
PRODID:-//wp-events-plugin.com//7.2.3.1//EN
TZID:Europe/London
X-WR-TIMEZONE:Europe/London
BEGIN:VEVENT
UID:6@eph.edingtonwiltshire.org.uk
DTSTART;TZID=Europe/London:20241101T180000
DTEND;TZID=Europe/London:20241101T194500
DTSTAMP:20241002T102753Z
URL:https://eph.edingtonwiltshire.org.uk/events/edington-brass-2024-11-01/
SUMMARY:Edington Brass
DESCRIPTION:
CATEGORIES:Regular Event
END:VEVENT
BEGIN:VTIMEZONE
TZID:Europe/London
X-LIC-LOCATION:Europe/London
BEGIN:STANDARD
DTSTART:20241027T010000
TZOFFSETFROM:+0100
TZOFFSETTO:+0000
TZNAME:GMT
END:STANDARD
END:VTIMEZONE
END:VCALENDAR