BEGIN:VCALENDAR
VERSION:2.0
PRODID:-//wp-events-plugin.com//7.2.3.1//EN
TZID:Europe/London
X-WR-TIMEZONE:Europe/London
BEGIN:VEVENT
UID:4@eph.edingtonwiltshire.org.uk
DTSTART;TZID=Europe/London:20241018T180000
DTEND;TZID=Europe/London:20241018T194500
DTSTAMP:20241002T102753Z
URL:https://eph.edingtonwiltshire.org.uk/events/edington-brass-2024-10-18/
SUMMARY:Edington Brass
DESCRIPTION:
CATEGORIES:Regular Event
END:VEVENT
BEGIN:VTIMEZONE
TZID:Europe/London
X-LIC-LOCATION:Europe/London
BEGIN:DAYLIGHT
DTSTART:20240331T020000
TZOFFSETFROM:+0000
TZOFFSETTO:+0100
TZNAME:BST
END:DAYLIGHT
END:VTIMEZONE
END:VCALENDAR