BEGIN:VCALENDAR
VERSION:2.0
PRODID:-//wp-events-plugin.com//7.2.3.1//EN
TZID:Europe/London
X-WR-TIMEZONE:Europe/London
BEGIN:VEVENT
UID:82@eph.edingtonwiltshire.org.uk
DTSTART;TZID=Europe/London:20251002T190000
DTEND;TZID=Europe/London:20251002T210000
DTSTAMP:20250226T154909Z
URL:https://eph.edingtonwiltshire.org.uk/events/edington-and-district-gard
 ening-club-2-2025-10-02/
SUMMARY:Edington and District Gardening Club
DESCRIPTION:Edington &amp\; District Gardening Club aims to enable like mi
 nded gardening enthusiasts to share and enjoy all aspects of gardening.\n
 \nWe include monthly speakers\, outings to gardens – usually guided tour
 s\, and social get togethers.\n\nWe have a Flower &amp\; Produce Show eve
 ry year open to the village\, and support the Edington Fair.
ATTACH;FMTTYPE=image/jpeg:https://eph.edingtonwiltshire.org.uk/wp-content/
 uploads/2025/01/Rose-bud3.jpg
CATEGORIES:Regular Event
END:VEVENT
BEGIN:VTIMEZONE
TZID:Europe/London
X-LIC-LOCATION:Europe/London
BEGIN:DAYLIGHT
DTSTART:20250330T020000
TZOFFSETFROM:+0000
TZOFFSETTO:+0100
TZNAME:BST
END:DAYLIGHT
END:VTIMEZONE
END:VCALENDAR