BEGIN:VCALENDAR
VERSION:2.0
PRODID:-//wp-events-plugin.com//7.2.3.1//EN
TZID:Europe/London
X-WR-TIMEZONE:Europe/London
BEGIN:VEVENT
UID:421@eph.edingtonwiltshire.org.uk
DTSTART;TZID=Europe/London:20251115T090000
DTEND;TZID=Europe/London:20251115T120000
DTSTAMP:20250708T152053Z
URL:https://eph.edingtonwiltshire.org.uk/events/charity-christmas-card-sal
 e/
SUMMARY:Charity Christmas Card Sale
DESCRIPTION:
CATEGORIES:Occasional Event
END:VEVENT
BEGIN:VTIMEZONE
TZID:Europe/London
X-LIC-LOCATION:Europe/London
BEGIN:STANDARD
DTSTART:20251026T010000
TZOFFSETFROM:+0100
TZOFFSETTO:+0000
TZNAME:GMT
END:STANDARD
END:VTIMEZONE
END:VCALENDAR